Workbook

Sheet Dashbord
A1: Category | B1: Past Month | C1: Current Month | F1: Variation
A2: 🍔 Food | B2: =SUMIF('Expense Data Sheet-Last Month'!B:B,"🍔 Food",'Expense Data Sheet-Last Month'!C:C) -> 78 | C2: =SUMIF('Expense Data Sheet-Current Mont'!B:B,"🍔 Food",'Expense Data Sheet-Current Mont'!C:C) -> 108 | F2: =C2-B2 -> 30
A3: 🚗 Transport | B3: =SUMIF('Expense Data Sheet-Last Month'!B:B,"🚗 Transport",'Expense Data Sheet-Last Month'!C:C) -> 13 | C3: =SUMIF('Expense Data Sheet-Current Mont'!B:B,"🚗 Transport",'Expense Data Sheet-Current Mont'!C:C) -> 23 | F3: =C3-B3 -> 10
A4: 🏥 Health | B4: =SUMIF('Expense Data Sheet-Last Month'!B:B,"🏥 Health",'Expense Data Sheet-Last Month'!C:C) -> 0 | C4: =SUMIF('Expense Data Sheet-Current Mont'!B:B,"🏥 Health",'Expense Data Sheet-Current Mont'!C:C) -> 40 | F4: =C4-B4 -> 40
A5: 🎬 Entertainment | B5: =SUMIF('Expense Data Sheet-Last Month'!B:B,"🎬 Entertainment",'Expense Data Sheet-Last Month'!C:C) -> 7 | C5: =SUMIF('Expense Data Sheet-Current Mont'!B:B,"🎬 Entertainment",'Expense Data Sheet-Current Mont'!C:C) -> 0 | F5: =C5-B5 -> -7
A6: 🏠 Housing | B6: =SUMIF('Expense Data Sheet-Last Month'!B:B,"🏠 Housing",'Expense Data Sheet-Last Month'!C:C) -> 500 | C6: =SUMIF('Expense Data Sheet-Current Mont'!B:B,"🏠 Housing",'Expense Data Sheet-Current Mont'!C:C) -> 500 | F6: =C6-B6 -> 0
A7: 📚 Education | B7: =SUMIF('Expense Data Sheet-Last Month'!B:B,"📚 Education",'Expense Data Sheet-Last Month'!C:C) -> 0 | C7: =SUMIF('Expense Data Sheet-Current Mont'!B:B,"📚 Education",'Expense Data Sheet-Current Mont'!C:C) -> 25 | F7: =C7-B7 -> 25
A8: Other | B8: =SUMIF('Expense Data Sheet-Last Month'!B:B,"Other",'Expense Data Sheet-Last Month'!C:C) -> 0 | C8: =SUMIF('Expense Data Sheet-Current Mont'!B:B,"Other",'Expense Data Sheet-Current Mont'!C:C) -> 0 | F8: =C8-B8 -> 0

Sheet Expense Data Sheet-Last Month
A1: Date | B1: Category | C1: Amount | D1: Notes
A2: 46110 | B2: 🏠 Housing | C2: 500 | D2: Rent Payment-March
A3: 46111 | B3: 🍔 Food | C3: 20 | D3: Lunch Taken Outside
A4: 46111 | B4: 🚗 Transport | C4: 5 | D4: Office to Home-Bus
A5: 46111 | B5: 🚗 Transport | C5: 8 | D5: To Supermarket
A6: 46111 | B6: 🍔 Food | C6: 58 | D6: Grocery Purchasing
A7: 46111 | B7: 🎬 Entertainment | C7: 7 | D7: Film Watching

Sheet Expense Data Sheet-Current Mont
A1: Date | B1: Category | C1: Amount | D1: Notes
A2: 46113 | B2: 🏠 Housing | C2: 500 | D2: Rent Payment-March
A3: 46114 | B3: 🍔 Food | C3: 50 | D3: Lunch Taken Outside
A4: 46115 | B4: 🚗 Transport | C4: 15 | D4: Office to Home-Bus
A5: 46116 | B5: 🚗 Transport | C5: 8 | D5: To Supermarket
A6: 46116 | B6: 🍔 Food | C6: 58 | D6: Grocery Purchasing
A7: 46116 | B7: 🎬 Entertainment | C7: 0 | D7: Film Watching
A8: 46119 | B8: 🏥 Health | C8: 40 | D8: Film Watching
A9: 46119 | B9: 📚 Education | C9: 25
